BEGIN:VCALENDAR
VERSION:2.0
PRODID:-//Palmyra Public Library - ECPv6.15.17.1//NONSGML v1.0//EN
CALSCALE:GREGORIAN
METHOD:PUBLISH
X-ORIGINAL-URL:https://palmyra.lclibs.org
X-WR-CALDESC:Events for Palmyra Public Library
REFRESH-INTERVAL;VALUE=DURATION:PT1H
X-Robots-Tag:noindex
X-PUBLISHED-TTL:PT1H
BEGIN:VTIMEZONE
TZID:America/New_York
BEGIN:DAYLIGHT
TZOFFSETFROM:-0500
TZOFFSETTO:-0400
TZNAME:EDT
DTSTART:20300310T070000
END:DAYLIGHT
BEGIN:STANDARD
TZOFFSETFROM:-0400
TZOFFSETTO:-0500
TZNAME:EST
DTSTART:20301103T060000
END:STANDARD
BEGIN:DAYLIGHT
TZOFFSETFROM:-0500
TZOFFSETTO:-0400
TZNAME:EDT
DTSTART:20310309T070000
END:DAYLIGHT
BEGIN:STANDARD
TZOFFSETFROM:-0400
TZOFFSETTO:-0500
TZNAME:EST
DTSTART:20311102T060000
END:STANDARD
BEGIN:DAYLIGHT
TZOFFSETFROM:-0500
TZOFFSETTO:-0400
TZNAME:EDT
DTSTART:20320314T070000
END:DAYLIGHT
BEGIN:STANDARD
TZOFFSETFROM:-0400
TZOFFSETTO:-0500
TZNAME:EST
DTSTART:20321107T060000
END:STANDARD
END:VTIMEZONE
BEGIN:VEVENT
DTSTART;TZID=America/New_York:20310205T100000
DTEND;TZID=America/New_York:20310205T110000
DTSTAMP:20260420T210041
CREATED:20231219T182830Z
LAST-MODIFIED:20260212T172855Z
UID:10001961-1928052000-1928055600@palmyra.lclibs.org
SUMMARY:Strength & Stretching 50+
DESCRIPTION:Adults 50+ are invited to join us for Strength and Stretching! Wednesdays at 10am in the meeting room. No registration is required. Any class cancellations will be posted on our Facebook page: www.facebook.com/PalmyraLibrary
URL:https://palmyra.lclibs.org/event/strength-stretching-50/2031-02-05/
LOCATION:Palmyra Public Library\, 50 Landings Dr\, Annville\, PA\, 17003\, United States
CATEGORIES:Adult program,Adults,Interest Group,Lebanon County Libraries,Palmyra Public Library,Senior Program
END:VEVENT
BEGIN:VEVENT
DTSTART;TZID=America/New_York:20310212T100000
DTEND;TZID=America/New_York:20310212T110000
DTSTAMP:20260420T210041
CREATED:20231219T182830Z
LAST-MODIFIED:20260212T172855Z
UID:10001962-1928656800-1928660400@palmyra.lclibs.org
SUMMARY:Strength & Stretching 50+
DESCRIPTION:Adults 50+ are invited to join us for Strength and Stretching! Wednesdays at 10am in the meeting room. No registration is required. Any class cancellations will be posted on our Facebook page: www.facebook.com/PalmyraLibrary
URL:https://palmyra.lclibs.org/event/strength-stretching-50/2031-02-12/
LOCATION:Palmyra Public Library\, 50 Landings Dr\, Annville\, PA\, 17003\, United States
CATEGORIES:Adult program,Adults,Interest Group,Lebanon County Libraries,Palmyra Public Library,Senior Program
END:VEVENT
BEGIN:VEVENT
DTSTART;TZID=America/New_York:20310224T163000
DTEND;TZID=America/New_York:20310224T184500
DTSTAMP:20260420T210041
CREATED:20251112T162240Z
LAST-MODIFIED:20260413T163852Z
UID:10002010-1929717000-1929725100@palmyra.lclibs.org
SUMMARY:BYO Craft Nights Adults 18+ @ Palmyra Public Library
DESCRIPTION:Crafters unite! Join us on the 4th Monday of each month from 4:30-6:45pm and bring whatever you’re currently working on. Enjoy an evening with like minded people and share your skills while learning from others. This is not a follow along class and supplies are not provided. No registration required. 18+ only.
URL:https://palmyra.lclibs.org/event/byo-craft-nights-adults-18-palmyra-public-library-2/2031-02-24/
LOCATION:Palmyra Public Library\, 50 Landings Dr\, Annville\, PA\, 17003\, United States
CATEGORIES:Adult program,Adults,Interest Group,Lebanon County Libraries,Palmyra Public Library
END:VEVENT
BEGIN:VEVENT
DTSTART;TZID=America/New_York:20310324T163000
DTEND;TZID=America/New_York:20310324T184500
DTSTAMP:20260420T210041
CREATED:20251112T162240Z
LAST-MODIFIED:20260413T163852Z
UID:10002011-1932136200-1932144300@palmyra.lclibs.org
SUMMARY:BYO Craft Nights Adults 18+ @ Palmyra Public Library
DESCRIPTION:Crafters unite! Join us on the 4th Monday of each month from 4:30-6:45pm and bring whatever you’re currently working on. Enjoy an evening with like minded people and share your skills while learning from others. This is not a follow along class and supplies are not provided. No registration required. 18+ only.
URL:https://palmyra.lclibs.org/event/byo-craft-nights-adults-18-palmyra-public-library-2/2031-03-24/
LOCATION:Palmyra Public Library\, 50 Landings Dr\, Annville\, PA\, 17003\, United States
CATEGORIES:Adult program,Adults,Interest Group,Lebanon County Libraries,Palmyra Public Library
END:VEVENT
END:VCALENDAR